BEGIN:VCALENDAR
CALSCALE:GREGORIAN
PRODID:-//Ben Fortuna//iCal4j 1.0//EN
VERSION:2.0
BEGIN:VEVENT
DTSTAMP:20260125T060514Z
DTSTART:20260129T110000
DTEND:20260129T130000
SUMMARY:FY27 Budget\n\nAgency of Education\n\nZoie Saunders\, Secretary\,
  Agency of Education - Invited\n\nJill Briggs Campbell\, Deputy Secretar
 y\, Agency of Education - Invited\n\nCassandra Ryan\, Chief Financial Of
 ficer\, Agency of Education - Invited - Room 9
TZID:America/New_York
UID:20260125T061549Z-uidGen@richgoldman-357e73
END:VEVENT
BEGIN:VALARM
TRIGGER:-PT15M
ACTION:DISPLAY
DESCRIPTION:FY27 Budget\n\nAgency of Education\n\nZoie Saunders\, Secreta
 ry\, Agency of Education - Invited\n\nJill Briggs Campbell\, Deputy Secr
 etary\, Agency of Education - Invited\n\nCassandra Ryan\, Chief Financia
 l Officer\, Agency of Education - Invited - Room 9
END:VALARM
END:VCALENDAR
