BEGIN:VCALENDAR
CALSCALE:GREGORIAN
PRODID:-//Ben Fortuna//iCal4j 1.0//EN
VERSION:2.0
BEGIN:VEVENT
DTSTAMP:20260128T180015Z
DTSTART:20260129T104500
DTEND:20260129T124500
SUMMARY:H. 578 - An act relating to penalties and procedures for animal c
 ruelty offenses\n\nWitness Testimony\n\nSteven Brown\, State's Attorney\
 , Windham County - TBD\n\nKim McManus\, Legislative Attorney\, Departmen
 t of State's Attorneys and Sheriffs - Room 30
TZID:America/New_York
UID:20260128T180043Z-uidGen@richgoldman-357e73
END:VEVENT
BEGIN:VALARM
TRIGGER:-PT15M
ACTION:DISPLAY
DESCRIPTION:H. 578 - An act relating to penalties and procedures for anim
 al cruelty offenses\n\nWitness Testimony\n\nSteven Brown\, State's Attor
 ney\, Windham County - TBD\n\nKim McManus\, Legislative Attorney\, Depar
 tment of State's Attorneys and Sheriffs - Room 30
END:VALARM
END:VCALENDAR
