BEGIN:VCALENDAR
CALSCALE:GREGORIAN
PRODID:-//Ben Fortuna//iCal4j 1.0//EN
VERSION:2.0
BEGIN:VEVENT
DTSTAMP:20260127T230013Z
DTSTART:20260129T104500
DTEND:20260129T124500
SUMMARY:S. 174 - An act relating to the study of Green Bank models to sup
 port and accelerate investments in climate mitigation infrastructure\, f
 arming\, and agriculture in Vermont\n\nJennifer Byrne\, District Manager
 \, White River Natural Resource Conservation District - Room 8
TZID:America/New_York
UID:20260127T230105Z-uidGen@richgoldman-357e73
END:VEVENT
BEGIN:VALARM
TRIGGER:-PT15M
ACTION:DISPLAY
DESCRIPTION:S. 174 - An act relating to the study of Green Bank models to
  support and accelerate investments in climate mitigation infrastructure
 \, farming\, and agriculture in Vermont\n\nJennifer Byrne\, District Man
 ager\, White River Natural Resource Conservation District - Room 8
END:VALARM
END:VCALENDAR
