BEGIN:VCALENDAR
CALSCALE:GREGORIAN
PRODID:-//Ben Fortuna//iCal4j 1.0//EN
VERSION:2.0
BEGIN:VEVENT
DTSTAMP:20260125T060514Z
DTSTART:20260129T104500
DTEND:20260129T124500
SUMMARY:Cannabis\n\nCommittee Discussion\n\nTucker Anderson\, Legislative
  Counsel\, Office of Legislative Counsel\n\nJames Pepper\, Chair\, Canna
 bis Control Board - Room 27
TZID:America/New_York
UID:20260125T061545Z-uidGen@richgoldman-357e73
END:VEVENT
BEGIN:VALARM
TRIGGER:-PT15M
ACTION:DISPLAY
DESCRIPTION:Cannabis\n\nCommittee Discussion\n\nTucker Anderson\, Legisla
 tive Counsel\, Office of Legislative Counsel\n\nJames Pepper\, Chair\, C
 annabis Control Board - Room 27
END:VALARM
END:VCALENDAR
