BEGIN:VCALENDAR
CALSCALE:GREGORIAN
PRODID:-//Ben Fortuna//iCal4j 1.0//EN
VERSION:2.0
BEGIN:VEVENT
DTSTAMP:20260125T060514Z
DTSTART:20260129T103500
DTEND:20260129T123500
SUMMARY:S. 208 - An act relating to standards for law enforcement identif
 ication\n\nWalk Through\n\nSophie Zdatny\, Legislative Counsel\, Office 
 of Legislative Counsel - Room 1
TZID:America/New_York
UID:20260125T061538Z-uidGen@richgoldman-357e73
END:VEVENT
BEGIN:VALARM
TRIGGER:-PT15M
ACTION:DISPLAY
DESCRIPTION:S. 208 - An act relating to standards for law enforcement ide
 ntification\n\nWalk Through\n\nSophie Zdatny\, Legislative Counsel\, Off
 ice of Legislative Counsel - Room 1
END:VALARM
END:VCALENDAR
