BEGIN:VCALENDAR
CALSCALE:GREGORIAN
PRODID:-//Ben Fortuna//iCal4j 1.0//EN
VERSION:2.0
BEGIN:VEVENT
DTSTAMP:20260126T150030Z
DTSTART:20260129T103500
DTEND:20260129T123500
SUMMARY:Supreme Court Justice Confirmation Hearing\n\nDiscussion - Room 1
 
TZID:America/New_York
UID:20260126T150047Z-uidGen@richgoldman-357e73
END:VEVENT
BEGIN:VALARM
TRIGGER:-PT15M
ACTION:DISPLAY
DESCRIPTION:Supreme Court Justice Confirmation Hearing\n\nDiscussion - Ro
 om 1
END:VALARM
END:VCALENDAR
