BEGIN:VCALENDAR
CALSCALE:GREGORIAN
PRODID:-//Ben Fortuna//iCal4j 1.0//EN
VERSION:2.0
BEGIN:VEVENT
DTSTAMP:20260125T060514Z
DTSTART:20260129T103000
DTEND:20260129T123000
SUMMARY:H. 578 - An act relating to penalties and procedures for animal c
 ruelty offenses\n\nWitness Testimony\n\nJudge Thomas Zonay\, Chief Super
 ior Judge\, Vermont Judiciary\n\nSteven Brown\, State's Attorney\, Windh
 am County - TBD\n\nKim McManus\, Legislative Attorney\, Department of St
 ate's Attorneys and Sheriffs - Invited - Room 30
TZID:America/New_York
UID:20260125T061531Z-uidGen@richgoldman-357e73
END:VEVENT
BEGIN:VALARM
TRIGGER:-PT15M
ACTION:DISPLAY
DESCRIPTION:H. 578 - An act relating to penalties and procedures for anim
 al cruelty offenses\n\nWitness Testimony\n\nJudge Thomas Zonay\, Chief S
 uperior Judge\, Vermont Judiciary\n\nSteven Brown\, State's Attorney\, W
 indham County - TBD\n\nKim McManus\, Legislative Attorney\, Department o
 f State's Attorneys and Sheriffs - Invited - Room 30
END:VALARM
END:VCALENDAR
