BEGIN:VCALENDAR
CALSCALE:GREGORIAN
PRODID:-//Ben Fortuna//iCal4j 1.0//EN
VERSION:2.0
BEGIN:VEVENT
DTSTAMP:20260127T150030Z
DTSTART:20260129T100000
DTEND:20260129T120000
SUMMARY:Lake Champlain's Future\n\nKarina Dailey\, Chair\, Vermont Citize
 ns Advisory Committee\n\nMary Perchlik\, Member\, Vermont Citizens Advis
 ory Committee - Room EA
TZID:America/New_York
UID:20260127T150117Z-uidGen@richgoldman-357e73
END:VEVENT
BEGIN:VALARM
TRIGGER:-PT15M
ACTION:DISPLAY
DESCRIPTION:Lake Champlain's Future\n\nKarina Dailey\, Chair\, Vermont Ci
 tizens Advisory Committee\n\nMary Perchlik\, Member\, Vermont Citizens A
 dvisory Committee - Room EA
END:VALARM
END:VCALENDAR
