BEGIN:VCALENDAR
CALSCALE:GREGORIAN
PRODID:-//Ben Fortuna//iCal4j 1.0//EN
VERSION:2.0
BEGIN:VEVENT
DTSTAMP:20260127T200014Z
DTSTART:20260129T100000
DTEND:20260129T120000
SUMMARY:Vermont Citizen's Advisory Committee on Lake Champlain's Future\n
 \nKarina Dailey\, Chair\, Vermont Citizens Advisory Committee\n\nMary Pe
 rchlik\, Member\, Vermont Citizens Advisory Committee - Room EA
TZID:America/New_York
UID:20260127T200109Z-uidGen@richgoldman-357e73
END:VEVENT
BEGIN:VALARM
TRIGGER:-PT15M
ACTION:DISPLAY
DESCRIPTION:Vermont Citizen's Advisory Committee on Lake Champlain's Futu
 re\n\nKarina Dailey\, Chair\, Vermont Citizens Advisory Committee\n\nMar
 y Perchlik\, Member\, Vermont Citizens Advisory Committee - Room EA
END:VALARM
END:VCALENDAR
