BEGIN:VCALENDAR
CALSCALE:GREGORIAN
PRODID:-//Ben Fortuna//iCal4j 1.0//EN
VERSION:2.0
BEGIN:VEVENT
DTSTAMP:20260127T170014Z
DTSTART:20260129T100500
DTEND:20260129T120500
SUMMARY:Drought Update\n\nCharles Martin\, Deputy Secretary\, Vermont Age
 ncy of Natural Resources\n\nSille Larson\, Program Manager\, Vermont Dep
 artment of Environmental Conservation\n\nBryan Redmond\, Director\, Agen
 cy of Natural Resources - Room 8
TZID:America/New_York
UID:20260127T170106Z-uidGen@richgoldman-357e73
END:VEVENT
BEGIN:VALARM
TRIGGER:-PT15M
ACTION:DISPLAY
DESCRIPTION:Drought Update\n\nCharles Martin\, Deputy Secretary\, Vermont
  Agency of Natural Resources\n\nSille Larson\, Program Manager\, Vermont
  Department of Environmental Conservation\n\nBryan Redmond\, Director\, 
 Agency of Natural Resources - Room 8
END:VALARM
END:VCALENDAR
