BEGIN:VCALENDAR
CALSCALE:GREGORIAN
PRODID:-//Ben Fortuna//iCal4j 1.0//EN
VERSION:2.0
BEGIN:VEVENT
DTSTAMP:20260128T180015Z
DTSTART:20260129T100500
DTEND:20260129T120500
SUMMARY:26-0761 - An act relating to studying the creation of model bylaw
 s\n\nEllen Czajkowski\, Legislative Counsel\, Office of Legislative Coun
 sel - Room 8
TZID:America/New_York
UID:20260128T180037Z-uidGen@richgoldman-357e73
END:VEVENT
BEGIN:VALARM
TRIGGER:-PT15M
ACTION:DISPLAY
DESCRIPTION:26-0761 - An act relating to studying the creation of model b
 ylaws\n\nEllen Czajkowski\, Legislative Counsel\, Office of Legislative 
 Counsel - Room 8
END:VALARM
END:VCALENDAR
