BEGIN:VCALENDAR
CALSCALE:GREGORIAN
PRODID:-//Ben Fortuna//iCal4j 1.0//EN
VERSION:2.0
BEGIN:VEVENT
DTSTAMP:20260126T230013Z
DTSTART:20260129T100000
DTEND:20260129T120000
SUMMARY:Higher Education Endowment Trust Fund\n\nJoint hearing with House
  Commerce and Economic Development\n\nThis hearing will take place in ro
 om TBD and will be livestreamed on the House Commerce and Economic Devel
 opment YouTube page: https://legislature.vermont.gov/committee/streaming
 /house-commerce-and-economic-development\n\nStatute walk-through\n\nWitn
 esses TBA - Room M103
TZID:America/New_York
UID:20260126T230025Z-uidGen@richgoldman-357e73
END:VEVENT
BEGIN:VALARM
TRIGGER:-PT15M
ACTION:DISPLAY
DESCRIPTION:Higher Education Endowment Trust Fund\n\nJoint hearing with H
 ouse Commerce and Economic Development\n\nThis hearing will take place i
 n room TBD and will be livestreamed on the House Commerce and Economic D
 evelopment YouTube page: https://legislature.vermont.gov/committee/strea
 ming/house-commerce-and-economic-development\n\nStatute walk-through\n\n
 Witnesses TBA - Room M103
END:VALARM
END:VCALENDAR
