BEGIN:VCALENDAR
CALSCALE:GREGORIAN
PRODID:-//Ben Fortuna//iCal4j 1.0//EN
VERSION:2.0
BEGIN:VEVENT
DTSTAMP:20260125T060514Z
DTSTART:20260129T100000
DTEND:20260129T120000
SUMMARY:S. 277 - An act relating to prohibiting mandatory overtime for nu
 rses\n\nIntroduction and Walk Through\n\nSen. Martine Larocque Gulick\, 
 Co-Chair\, Sponsor\n\nSophie Zdatny\, Legislative Counsel\, Office of Le
 gislative Counsel - Room 27
TZID:America/New_York
UID:20260125T061513Z-uidGen@richgoldman-357e73
END:VEVENT
BEGIN:VALARM
TRIGGER:-PT15M
ACTION:DISPLAY
DESCRIPTION:S. 277 - An act relating to prohibiting mandatory overtime fo
 r nurses\n\nIntroduction and Walk Through\n\nSen. Martine Larocque Gulic
 k\, Co-Chair\, Sponsor\n\nSophie Zdatny\, Legislative Counsel\, Office o
 f Legislative Counsel - Room 27
END:VALARM
END:VCALENDAR
