BEGIN:VCALENDAR
CALSCALE:GREGORIAN
PRODID:-//Ben Fortuna//iCal4j 1.0//EN
VERSION:2.0
BEGIN:VEVENT
DTSTAMP:20260128T160014Z
DTSTART:20260129T153000
DTEND:20260129T173000
SUMMARY:Capital Budget Adjustment\n\nSection 17 - Vermont Historical Soci
 ety\n\nSteve Perkins\, Executive Director\, Vermont Historical Society\n
 \n" - Room 7
TZID:America/New_York
UID:20260128T160118Z-uidGen@richgoldman-357e73
END:VEVENT
BEGIN:VALARM
TRIGGER:-PT15M
ACTION:DISPLAY
DESCRIPTION:Capital Budget Adjustment\n\nSection 17 - Vermont Historical 
 Society\n\nSteve Perkins\, Executive Director\, Vermont Historical Socie
 ty\n\n" - Room 7
END:VALARM
END:VCALENDAR
