BEGIN:VCALENDAR
CALSCALE:GREGORIAN
PRODID:-//Ben Fortuna//iCal4j 1.0//EN
VERSION:2.0
BEGIN:VEVENT
DTSTAMP:20260125T060514Z
DTSTART:20260129T093000
DTEND:20260129T113000
SUMMARY:Land Access Opportunity Board\n\nJean Hamilton\, Director of Prog
 ram Development\, Land Access and Opportunity Board - Room 8
TZID:America/New_York
UID:20260125T061457Z-uidGen@richgoldman-357e73
END:VEVENT
BEGIN:VALARM
TRIGGER:-PT15M
ACTION:DISPLAY
DESCRIPTION:Land Access Opportunity Board\n\nJean Hamilton\, Director of 
 Program Development\, Land Access and Opportunity Board - Room 8
END:VALARM
END:VCALENDAR
