BEGIN:VCALENDAR
CALSCALE:GREGORIAN
PRODID:-//Ben Fortuna//iCal4j 1.0//EN
VERSION:2.0
BEGIN:VEVENT
DTSTAMP:20260127T200015Z
DTSTART:20260129T150000
DTEND:20260129T170000
SUMMARY:Pretrial Supervision\n\nExpansion in Governor's Budget\n\nJaye Pe
 rshing Johnson\, Governor's Counsel\, Governor's Office - Room 34
TZID:America/New_York
UID:20260127T200122Z-uidGen@richgoldman-357e73
END:VEVENT
BEGIN:VALARM
TRIGGER:-PT15M
ACTION:DISPLAY
DESCRIPTION:Pretrial Supervision\n\nExpansion in Governor's Budget\n\nJay
 e Pershing Johnson\, Governor's Counsel\, Governor's Office - Room 34
END:VALARM
END:VCALENDAR
