BEGIN:VCALENDAR
CALSCALE:GREGORIAN
PRODID:-//Ben Fortuna//iCal4j 1.0//EN
VERSION:2.0
BEGIN:VEVENT
DTSTAMP:20260125T060514Z
DTSTART:20260129T091500
DTEND:20260129T111500
SUMMARY:S. 193 - An act relating to establishing a forensic facility for 
 certain criminal justice-involved persons\n\nWitness Testimony\n\nKristi
 n McClure\, Deputy Secretary\, Agency of Human Services\n\nKaren Barber\
 , General Counsel\, Department of Mental Health\n\nJon Murad\, Interim C
 ommissioner\, Department of Corrections\n\nLaurie Fisher\, General Couns
 el\, Department of Corrections - Room 1
TZID:America/New_York
UID:20260125T061450Z-uidGen@richgoldman-357e73
END:VEVENT
BEGIN:VALARM
TRIGGER:-PT15M
ACTION:DISPLAY
DESCRIPTION:S. 193 - An act relating to establishing a forensic facility 
 for certain criminal justice-involved persons\n\nWitness Testimony\n\nKr
 istin McClure\, Deputy Secretary\, Agency of Human Services\n\nKaren Bar
 ber\, General Counsel\, Department of Mental Health\n\nJon Murad\, Inter
 im Commissioner\, Department of Corrections\n\nLaurie Fisher\, General C
 ounsel\, Department of Corrections - Room 1
END:VALARM
END:VCALENDAR
