BEGIN:VCALENDAR
CALSCALE:GREGORIAN
PRODID:-//Ben Fortuna//iCal4j 1.0//EN
VERSION:2.0
BEGIN:VEVENT
DTSTAMP:20260125T060514Z
DTSTART:20260129T090000
DTEND:20260129T110000
SUMMARY:Lake Champlain's Future\n\nKarina Dailey\, Chair\, Vermont Citize
 ns Advisory Committee - Invited\n\nMary Perchlik\, Member\, Vermont Citi
 zens Advisory Committee - Invited - Room EA
TZID:America/New_York
UID:20260125T061423Z-uidGen@richgoldman-357e73
END:VEVENT
BEGIN:VALARM
TRIGGER:-PT15M
ACTION:DISPLAY
DESCRIPTION:Lake Champlain's Future\n\nKarina Dailey\, Chair\, Vermont Ci
 tizens Advisory Committee - Invited\n\nMary Perchlik\, Member\, Vermont 
 Citizens Advisory Committee - Invited - Room EA
END:VALARM
END:VCALENDAR
