BEGIN:VCALENDAR
CALSCALE:GREGORIAN
PRODID:-//Ben Fortuna//iCal4j 1.0//EN
VERSION:2.0
BEGIN:VEVENT
DTSTAMP:20260126T200014Z
DTSTART:20260129T090000
DTEND:20260129T110000
SUMMARY:H. 204 - An act relating to the collection and recycling of waste
  motor vehicle tires\n\nMatt Chapman\, Director\, Waste Management & Pre
 vention Division\, Department of Environmental Conservation - Room EA
TZID:America/New_York
UID:20260126T200052Z-uidGen@richgoldman-357e73
END:VEVENT
BEGIN:VALARM
TRIGGER:-PT15M
ACTION:DISPLAY
DESCRIPTION:H. 204 - An act relating to the collection and recycling of w
 aste motor vehicle tires\n\nMatt Chapman\, Director\, Waste Management &
  Prevention Division\, Department of Environmental Conservation - Room E
 A
END:VALARM
END:VCALENDAR
