BEGIN:VCALENDAR
CALSCALE:GREGORIAN
PRODID:-//Ben Fortuna//iCal4j 1.0//EN
VERSION:2.0
BEGIN:VEVENT
DTSTAMP:20260126T200014Z
DTSTART:20260129T145000
DTEND:20260129T165000
SUMMARY:H. 775 - An act relating to creating tools for housing production
 \n\nIntroduction\n\nRep. Marc Mihaly\, Sponsor\, House Committee on Gene
 ral and Housing - Room 31
TZID:America/New_York
UID:20260126T200105Z-uidGen@richgoldman-357e73
END:VEVENT
BEGIN:VALARM
TRIGGER:-PT15M
ACTION:DISPLAY
DESCRIPTION:H. 775 - An act relating to creating tools for housing produc
 tion\n\nIntroduction\n\nRep. Marc Mihaly\, Sponsor\, House Committee on 
 General and Housing - Room 31
END:VALARM
END:VCALENDAR
