BEGIN:VCALENDAR
CALSCALE:GREGORIAN
PRODID:-//Ben Fortuna//iCal4j 1.0//EN
VERSION:2.0
BEGIN:VEVENT
DTSTAMP:20260125T060514Z
DTSTART:20260129T144500
DTEND:20260129T164500
SUMMARY:H. 660 - An act relating to fiscal year 2027 Opioid Abatement Spe
 cial Fund appropriations\n\nOpioid Settlement Advisory Committee recomme
 ndations\n\nJess Kirby\, Vice-Chair\, Opioid Settlement Advisory Committ
 ee - Room 46
TZID:America/New_York
UID:20260125T061825Z-uidGen@richgoldman-357e73
END:VEVENT
BEGIN:VALARM
TRIGGER:-PT15M
ACTION:DISPLAY
DESCRIPTION:H. 660 - An act relating to fiscal year 2027 Opioid Abatement
  Special Fund appropriations\n\nOpioid Settlement Advisory Committee rec
 ommendations\n\nJess Kirby\, Vice-Chair\, Opioid Settlement Advisory Com
 mittee - Room 46
END:VALARM
END:VCALENDAR
