BEGIN:VCALENDAR
CALSCALE:GREGORIAN
PRODID:-//Ben Fortuna//iCal4j 1.0//EN
VERSION:2.0
BEGIN:VEVENT
DTSTAMP:20260125T060514Z
DTSTART:20260129T144500
DTEND:20260129T164500
SUMMARY:H. 772 - An act relating to residential rental agreements\, evict
 ion procedures\, and the creation of the positive rental payment credit 
 reporting pilot program\n\nIntroduction\n\nRep. Marc Mihaly\, Sponsor - 
 Room 31
TZID:America/New_York
UID:20260125T061822Z-uidGen@richgoldman-357e73
END:VEVENT
BEGIN:VALARM
TRIGGER:-PT15M
ACTION:DISPLAY
DESCRIPTION:H. 772 - An act relating to residential rental agreements\, e
 viction procedures\, and the creation of the positive rental payment cre
 dit reporting pilot program\n\nIntroduction\n\nRep. Marc Mihaly\, Sponso
 r - Room 31
END:VALARM
END:VCALENDAR
