BEGIN:VCALENDAR
CALSCALE:GREGORIAN
PRODID:-//Ben Fortuna//iCal4j 1.0//EN
VERSION:2.0
BEGIN:VEVENT
DTSTAMP:20260125T060514Z
DTSTART:20260129T090000
DTEND:20260129T110000
SUMMARY:H. 578 - An act relating to penalties and procedures for animal c
 ruelty offenses\n\nWitness Testimony\n\nErik FitzPatrick\, Legislative C
 ounsel\, Office of Legislative Counsel - Invited - Room 30
TZID:America/New_York
UID:20260125T061433Z-uidGen@richgoldman-357e73
END:VEVENT
BEGIN:VALARM
TRIGGER:-PT15M
ACTION:DISPLAY
DESCRIPTION:H. 578 - An act relating to penalties and procedures for anim
 al cruelty offenses\n\nWitness Testimony\n\nErik FitzPatrick\, Legislati
 ve Counsel\, Office of Legislative Counsel - Invited - Room 30
END:VALARM
END:VCALENDAR
