BEGIN:VCALENDAR
CALSCALE:GREGORIAN
PRODID:-//Ben Fortuna//iCal4j 1.0//EN
VERSION:2.0
BEGIN:VEVENT
DTSTAMP:20260125T060514Z
DTSTART:20260129T090000
DTEND:20260129T110000
SUMMARY:PR.4 - Declaration of rights\; government for the people\; equali
 ty of rights\n\nWitness Testimony\n\nRenee McGuinness\, Vermont Family A
 lliance Policy Analyst - Room 1
TZID:America/New_York
UID:20260125T061445Z-uidGen@richgoldman-357e73
END:VEVENT
BEGIN:VALARM
TRIGGER:-PT15M
ACTION:DISPLAY
DESCRIPTION:PR.4 - Declaration of rights\; government for the people\; eq
 uality of rights\n\nWitness Testimony\n\nRenee McGuinness\, Vermont Fami
 ly Alliance Policy Analyst - Room 1
END:VALARM
END:VCALENDAR
