BEGIN:VCALENDAR
CALSCALE:GREGORIAN
PRODID:-//Ben Fortuna//iCal4j 1.0//EN
VERSION:2.0
BEGIN:VEVENT
DTSTAMP:20260125T060514Z
DTSTART:20260129T090000
DTEND:20260129T110000
SUMMARY:Retirement Omnibus Bill\n\nWitness testimony\n\nWitnesses TBD\, V
 ermont League of Cities and Towns\n\nWitnesses TBD\, Department of State
 's Attorneys and Sheriffs\n\nWitnesses TBD\, Vermont State Employees Ass
 ociation\n\nWitnesses TBD\, Vermont State Employees Retirement System Bo
 ard\n\nWitnesses TBD\, Vermont State Teachers Retirement System Board\n\
 nWitnesses TBD\, Vermont Municipal Employees' Retirement System\n\nSean 
 Brown\, Deputy Secretary\, Agency of Administration - Room M106
TZID:America/New_York
UID:20260125T061427Z-uidGen@richgoldman-357e73
END:VEVENT
BEGIN:VALARM
TRIGGER:-PT15M
ACTION:DISPLAY
DESCRIPTION:Retirement Omnibus Bill\n\nWitness testimony\n\nWitnesses TBD
 \, Vermont League of Cities and Towns\n\nWitnesses TBD\, Department of S
 tate's Attorneys and Sheriffs\n\nWitnesses TBD\, Vermont State Employees
  Association\n\nWitnesses TBD\, Vermont State Employees Retirement Syste
 m Board\n\nWitnesses TBD\, Vermont State Teachers Retirement System Boar
 d\n\nWitnesses TBD\, Vermont Municipal Employees' Retirement System\n\nS
 ean Brown\, Deputy Secretary\, Agency of Administration - Room M106
END:VALARM
END:VCALENDAR
