BEGIN:VCALENDAR
CALSCALE:GREGORIAN
PRODID:-//Ben Fortuna//iCal4j 1.0//EN
VERSION:2.0
BEGIN:VEVENT
DTSTAMP:20260127T150030Z
DTSTART:20260129T090000
DTEND:20260129T110000
SUMMARY:Treasurer's Omnibus Bill\n\nWitness testimony\n\nWitnesses TBD\, 
 Vermont League of Cities and Towns\n\nWitnesses TBD\, Department of Stat
 e's Attorneys and Sheriffs\n\nWitnesses TBD\, Vermont State Employees As
 sociation\n\nWitnesses TBD\, Vermont State Employees Retirement System B
 oard\n\nWitnesses TBD\, Vermont State Teachers Retirement System Board\n
 \nWitnesses TBD\, Vermont Municipal Employees' Retirement System\n\nSean
  Brown\, Deputy Secretary\, Agency of Administration - Room M106
TZID:America/New_York
UID:20260127T150111Z-uidGen@richgoldman-357e73
END:VEVENT
BEGIN:VALARM
TRIGGER:-PT15M
ACTION:DISPLAY
DESCRIPTION:Treasurer's Omnibus Bill\n\nWitness testimony\n\nWitnesses TB
 D\, Vermont League of Cities and Towns\n\nWitnesses TBD\, Department of 
 State's Attorneys and Sheriffs\n\nWitnesses TBD\, Vermont State Employee
 s Association\n\nWitnesses TBD\, Vermont State Employees Retirement Syst
 em Board\n\nWitnesses TBD\, Vermont State Teachers Retirement System Boa
 rd\n\nWitnesses TBD\, Vermont Municipal Employees' Retirement System\n\n
 Sean Brown\, Deputy Secretary\, Agency of Administration - Room M106
END:VALARM
END:VCALENDAR
