BEGIN:VCALENDAR
CALSCALE:GREGORIAN
PRODID:-//Ben Fortuna//iCal4j 1.0//EN
VERSION:2.0
BEGIN:VEVENT
DTSTAMP:20260127T200014Z
DTSTART:20260129T090000
DTEND:20260129T110000
SUMMARY:Treasurer's Omnibus Bill\n\nH. 567 - An act relating to unclaimed
  property\, State retirement systems\, and capital debt\n\nWitness testi
 mony\n\nWitnesses TBD\, Vermont League of Cities and Towns\n\nWitnesses 
 TBD\, Department of State's Attorneys and Sheriffs\n\nWitnesses TBD\, Ve
 rmont State Employees Association\n\nWitnesses TBD\, Vermont State Emplo
 yees Retirement System Board\n\nTim Duggan\, Director of Vermont Retirem
 ent Systems\, Office of the State Treasurer\n\nWitnesses TBD\, Vermont M
 unicipal Employees' Retirement System\n\nNick Kramer\, Chief Operating O
 fficer\, Agency of Administration - Room M106
TZID:America/New_York
UID:20260127T200107Z-uidGen@richgoldman-357e73
END:VEVENT
BEGIN:VALARM
TRIGGER:-PT15M
ACTION:DISPLAY
DESCRIPTION:Treasurer's Omnibus Bill\n\nH. 567 - An act relating to uncla
 imed property\, State retirement systems\, and capital debt\n\nWitness t
 estimony\n\nWitnesses TBD\, Vermont League of Cities and Towns\n\nWitnes
 ses TBD\, Department of State's Attorneys and Sheriffs\n\nWitnesses TBD\
 , Vermont State Employees Association\n\nWitnesses TBD\, Vermont State E
 mployees Retirement System Board\n\nTim Duggan\, Director of Vermont Ret
 irement Systems\, Office of the State Treasurer\n\nWitnesses TBD\, Vermo
 nt Municipal Employees' Retirement System\n\nNick Kramer\, Chief Operati
 ng Officer\, Agency of Administration - Room M106
END:VALARM
END:VCALENDAR
