BEGIN:VCALENDAR
CALSCALE:GREGORIAN
PRODID:-//Ben Fortuna//iCal4j 1.0//EN
VERSION:2.0
BEGIN:VEVENT
DTSTAMP:20260128T170014Z
DTSTART:20260129T090000
DTEND:20260129T110000
SUMMARY:H. 567 - An act relating to unclaimed property\, State retirement
  systems\, and capital debt\n\nWitness testimony\n\nJosh Hanford\, Direc
 tor of Intergovernmental Affairs\, Vermont League of Cities and Towns\n\
 nTimothy Leuders-Dumont\, Executive Director\, Department of State's Att
 orneys and Sheriffs\n\nJennifer Harlow\, President\, Vermont Sheriffs' A
 ssociation\n\nSergeant Mike O'Neil\, Director\, Vermont State Troopers A
 ssociation\n\nSergeant Dan Trottier\, President\, Vermont State Troopers
  Association\n\nWitnesses TBD\, Vermont State Employees Association\n\nT
 im Duggan\, Director of Vermont Retirement Systems\, Office of the State
  Treasurer\n\nNick Kramer\, Chief Operating Officer\, Agency of Administ
 ration - Room M106
TZID:America/New_York
UID:20260128T170046Z-uidGen@richgoldman-357e73
END:VEVENT
BEGIN:VALARM
TRIGGER:-PT15M
ACTION:DISPLAY
DESCRIPTION:H. 567 - An act relating to unclaimed property\, State retire
 ment systems\, and capital debt\n\nWitness testimony\n\nJosh Hanford\, D
 irector of Intergovernmental Affairs\, Vermont League of Cities and Town
 s\n\nTimothy Leuders-Dumont\, Executive Director\, Department of State's
  Attorneys and Sheriffs\n\nJennifer Harlow\, President\, Vermont Sheriff
 s' Association\n\nSergeant Mike O'Neil\, Director\, Vermont State Troope
 rs Association\n\nSergeant Dan Trottier\, President\, Vermont State Troo
 pers Association\n\nWitnesses TBD\, Vermont State Employees Association\
 n\nTim Duggan\, Director of Vermont Retirement Systems\, Office of the S
 tate Treasurer\n\nNick Kramer\, Chief Operating Officer\, Agency of Admi
 nistration - Room M106
END:VALARM
END:VCALENDAR
