BEGIN:VCALENDAR
CALSCALE:GREGORIAN
PRODID:-//Ben Fortuna//iCal4j 1.0//EN
VERSION:2.0
BEGIN:VEVENT
DTSTAMP:20260125T060514Z
DTSTART:20260129T090000
DTEND:20260129T110000
SUMMARY:Youth Climate Update\n\nEvelyn Seidner\, Vermont Natural Resoures
  Council - Room 8
TZID:America/New_York
UID:20260125T061446Z-uidGen@richgoldman-357e73
END:VEVENT
BEGIN:VALARM
TRIGGER:-PT15M
ACTION:DISPLAY
DESCRIPTION:Youth Climate Update\n\nEvelyn Seidner\, Vermont Natural Reso
 ures Council - Room 8
END:VALARM
END:VCALENDAR
