BEGIN:VCALENDAR
CALSCALE:GREGORIAN
PRODID:-//Ben Fortuna//iCal4j 1.0//EN
VERSION:2.0
BEGIN:VEVENT
DTSTAMP:20260125T060514Z
DTSTART:20260129T090000
DTEND:20260129T110000
SUMMARY:Career Technical Education\n\nSen. Kesha Ram Hinsdale\, Chair\, S
 ponsor\n\nBeth St. James\, Legislative Counsel\, Office of Legislative C
 ounsel - Room 27
TZID:America/New_York
UID:20260125T061440Z-uidGen@richgoldman-357e73
END:VEVENT
BEGIN:VALARM
TRIGGER:-PT15M
ACTION:DISPLAY
DESCRIPTION:Career Technical Education\n\nSen. Kesha Ram Hinsdale\, Chair
 \, Sponsor\n\nBeth St. James\, Legislative Counsel\, Office of Legislati
 ve Counsel - Room 27
END:VALARM
END:VCALENDAR
