BEGIN:VCALENDAR
CALSCALE:GREGORIAN
PRODID:-//Ben Fortuna//iCal4j 1.0//EN
VERSION:2.0
BEGIN:VEVENT
DTSTAMP:20260127T230013Z
DTSTART:20260129T090000
DTEND:20260129T110000
SUMMARY:S. 313 - An act relating to transforming Vermont’s career technic
 al education system\n\nIntroduction and Walk-Through\n\nSen. Kesha Ram H
 insdale\, Chair\, Sponsor\n\nBeth St. James\, Legislative Counsel\, Offi
 ce of Legislative Counsel - Room 27
TZID:America/New_York
UID:20260127T230059Z-uidGen@richgoldman-357e73
END:VEVENT
BEGIN:VALARM
TRIGGER:-PT15M
ACTION:DISPLAY
DESCRIPTION:S. 313 - An act relating to transforming Vermont’s career tec
 hnical education system\n\nIntroduction and Walk-Through\n\nSen. Kesha R
 am Hinsdale\, Chair\, Sponsor\n\nBeth St. James\, Legislative Counsel\, 
 Office of Legislative Counsel - Room 27
END:VALARM
END:VCALENDAR
