BEGIN:VCALENDAR
CALSCALE:GREGORIAN
PRODID:-//Ben Fortuna//iCal4j 1.0//EN
VERSION:2.0
BEGIN:VEVENT
DTSTAMP:20260125T060514Z
DTSTART:20260129T090000
DTEND:20260129T110000
SUMMARY:FY27 Budget\n\nDepartment of Disabilities\, Aging\, and Independe
 nt Living\n\nDr. Jill Bowen\, Commissioner\, Department of Disabilities\
 , Aging and Independent Living - Invited\n\nBill Kelly\, Financial Direc
 tor\, Department of Disabilities\, Aging and Independent Living - Invite
 d\n\nAngela Smith-Dieng\, Deputy Commissioner\, Department of Disabiliti
 es\, Aging and Independent Living - Invited - Room 9
TZID:America/New_York
UID:20260125T061414Z-uidGen@richgoldman-357e73
END:VEVENT
BEGIN:VALARM
TRIGGER:-PT15M
ACTION:DISPLAY
DESCRIPTION:FY27 Budget\n\nDepartment of Disabilities\, Aging\, and Indep
 endent Living\n\nDr. Jill Bowen\, Commissioner\, Department of Disabilit
 ies\, Aging and Independent Living - Invited\n\nBill Kelly\, Financial D
 irector\, Department of Disabilities\, Aging and Independent Living - In
 vited\n\nAngela Smith-Dieng\, Deputy Commissioner\, Department of Disabi
 lities\, Aging and Independent Living - Invited - Room 9
END:VALARM
END:VCALENDAR
