BEGIN:VCALENDAR
CALSCALE:GREGORIAN
PRODID:-//Ben Fortuna//iCal4j 1.0//EN
VERSION:2.0
BEGIN:VEVENT
DTSTAMP:20260127T160015Z
DTSTART:20260129T143000
DTEND:20260129T163000
SUMMARY:H. 611 - An act relating to miscellaneous provisions affecting th
 e Department of Vermont Health Access\n\nCommittee discussion\, possible
  vote\n\nJennifer Carbee\, Deputy Chief Counsel\, Office of Legislative 
 Counsel\n\nMike Fisher\, Chief Health Care Advocate\, Vermont Legal Aid\
 n\nEmma Zavez\, Consumer Research and Health Policy Analyst\, Office of 
 the Health Care Advocate\, Vermont Legal Aid - Room 42
TZID:America/New_York
UID:20260127T160114Z-uidGen@richgoldman-357e73
END:VEVENT
BEGIN:VALARM
TRIGGER:-PT15M
ACTION:DISPLAY
DESCRIPTION:H. 611 - An act relating to miscellaneous provisions affectin
 g the Department of Vermont Health Access\n\nCommittee discussion\, poss
 ible vote\n\nJennifer Carbee\, Deputy Chief Counsel\, Office of Legislat
 ive Counsel\n\nMike Fisher\, Chief Health Care Advocate\, Vermont Legal 
 Aid\n\nEmma Zavez\, Consumer Research and Health Policy Analyst\, Office
  of the Health Care Advocate\, Vermont Legal Aid - Room 42
END:VALARM
END:VCALENDAR
