BEGIN:VCALENDAR
CALSCALE:GREGORIAN
PRODID:-//Ben Fortuna//iCal4j 1.0//EN
VERSION:2.0
BEGIN:VEVENT
DTSTAMP:20260125T060514Z
DTSTART:20260129T143000
DTEND:20260129T163000
SUMMARY:Capital Budget Adjustment\n\nSection 13 - USAR Facility\n\nJennif
 er Morrison\, Commissioner\, Department of Public Safety\n\nDaniel Batsi
 e\, Deputy Commissioner\, Department of Public Safety\n\nRichard Hallenb
 eck\, Director of Finance and Administration\, Department of Public Safe
 ty\n\nJoe Aja\, Director Design & Construction\, Department of Buildings
  and General Services - Room 7
TZID:America/New_York
UID:20260125T061820Z-uidGen@richgoldman-357e73
END:VEVENT
BEGIN:VALARM
TRIGGER:-PT15M
ACTION:DISPLAY
DESCRIPTION:Capital Budget Adjustment\n\nSection 13 - USAR Facility\n\nJe
 nnifer Morrison\, Commissioner\, Department of Public Safety\n\nDaniel B
 atsie\, Deputy Commissioner\, Department of Public Safety\n\nRichard Hal
 lenbeck\, Director of Finance and Administration\, Department of Public 
 Safety\n\nJoe Aja\, Director Design & Construction\, Department of Build
 ings and General Services - Room 7
END:VALARM
END:VCALENDAR
