BEGIN:VCALENDAR
CALSCALE:GREGORIAN
PRODID:-//Ben Fortuna//iCal4j 1.0//EN
VERSION:2.0
BEGIN:VEVENT
DTSTAMP:20260123T230012Z
DTSTART:20260129T141500
DTEND:20260129T161500
SUMMARY: - Room 46
TZID:America/New_York
UID:20260123T230032Z-uidGen@richgoldman-357e73
END:VEVENT
BEGIN:VALARM
TRIGGER:-PT15M
ACTION:DISPLAY
DESCRIPTION: - Room 46
END:VALARM
END:VCALENDAR
