BEGIN:VCALENDAR
CALSCALE:GREGORIAN
PRODID:-//Ben Fortuna//iCal4j 1.0//EN
VERSION:2.0
BEGIN:VEVENT
DTSTAMP:20260126T180014Z
DTSTART:20260129T140000
DTEND:20260129T160000
SUMMARY:H. 632 - An act relating to miscellaneous environmental amendment
 s\n\nTestimony of Agency of Natural Resources\n\nAbbi Pajak\, CAFO Progr
 am Manager\, Watershed Management Division\n\nCatherine Gjessing\, Gener
 al Counsel\, Agency of Natural Resources - Room 49
TZID:America/New_York
UID:20260126T180040Z-uidGen@richgoldman-357e73
END:VEVENT
BEGIN:VALARM
TRIGGER:-PT15M
ACTION:DISPLAY
DESCRIPTION:H. 632 - An act relating to miscellaneous environmental amend
 ments\n\nTestimony of Agency of Natural Resources\n\nAbbi Pajak\, CAFO P
 rogram Manager\, Watershed Management Division\n\nCatherine Gjessing\, G
 eneral Counsel\, Agency of Natural Resources - Room 49
END:VALARM
END:VCALENDAR
