BEGIN:VCALENDAR
CALSCALE:GREGORIAN
PRODID:-//Ben Fortuna//iCal4j 1.0//EN
VERSION:2.0
BEGIN:VEVENT
DTSTAMP:20260125T060514Z
DTSTART:20260129T134500
DTEND:20260129T154500
SUMMARY:Immigration Detainees\n\nIn relation to VAAP and ACLU testimony\n
 \nJon Murad\, Interim Commissioner\, Department of Corrections\n\nLauri 
 Fisher\, General Counsel\, Department of Corrections - Room 34
TZID:America/New_York
UID:20260125T061754Z-uidGen@richgoldman-357e73
END:VEVENT
BEGIN:VALARM
TRIGGER:-PT15M
ACTION:DISPLAY
DESCRIPTION:Immigration Detainees\n\nIn relation to VAAP and ACLU testimo
 ny\n\nJon Murad\, Interim Commissioner\, Department of Corrections\n\nLa
 uri Fisher\, General Counsel\, Department of Corrections - Room 34
END:VALARM
END:VCALENDAR
