BEGIN:VCALENDAR
CALSCALE:GREGORIAN
PRODID:-//Ben Fortuna//iCal4j 1.0//EN
VERSION:2.0
BEGIN:VEVENT
DTSTAMP:20260125T060514Z
DTSTART:20260129T140000
DTEND:20260129T160000
SUMMARY:Transportation Bill\n\nDamien Leonard\, Legislative Counsel\, Off
 ice of Legislative Counsel - Room 43
TZID:America/New_York
UID:20260125T061808Z-uidGen@richgoldman-357e73
END:VEVENT
BEGIN:VALARM
TRIGGER:-PT15M
ACTION:DISPLAY
DESCRIPTION:Transportation Bill\n\nDamien Leonard\, Legislative Counsel\,
  Office of Legislative Counsel - Room 43
END:VALARM
END:VCALENDAR
