BEGIN:VCALENDAR
CALSCALE:GREGORIAN
PRODID:-//Ben Fortuna//iCal4j 1.0//EN
VERSION:2.0
BEGIN:VEVENT
DTSTAMP:20260127T150030Z
DTSTART:20260129T140000
DTEND:20260129T160000
SUMMARY:Agency of Transportation Updates\n\nSection 23 and 25 of Act 148 
 2024\, EVSE Map and Progress Report\n\nAndrea Wright\, Manager\, Environ
 mental Policy and Sustainability\, Agency of Transportation\n\nHilary De
 lRoss\, Sustainability and Innovations Project Manager\, Agency of Trans
 portation - Room 43
TZID:America/New_York
UID:20260127T150130Z-uidGen@richgoldman-357e73
END:VEVENT
BEGIN:VALARM
TRIGGER:-PT15M
ACTION:DISPLAY
DESCRIPTION:Agency of Transportation Updates\n\nSection 23 and 25 of Act 
 148 2024\, EVSE Map and Progress Report\n\nAndrea Wright\, Manager\, Env
 ironmental Policy and Sustainability\, Agency of Transportation\n\nHilar
 y DelRoss\, Sustainability and Innovations Project Manager\, Agency of T
 ransportation - Room 43
END:VALARM
END:VCALENDAR
