BEGIN:VCALENDAR
CALSCALE:GREGORIAN
PRODID:-//Ben Fortuna//iCal4j 1.0//EN
VERSION:2.0
BEGIN:VEVENT
DTSTAMP:20260125T060514Z
DTSTART:20260129T134500
DTEND:20260129T154500
SUMMARY:H. 577 - An act relating to establishing the Vermont Prescription
  Drug Discount Card Program\n\nCommittee discussion\, possible vote\n\nJ
 ennifer Carbee\, Deputy Chief Counsel\, Office of Legislative Counsel - 
 Room 42
TZID:America/New_York
UID:20260125T061756Z-uidGen@richgoldman-357e73
END:VEVENT
BEGIN:VALARM
TRIGGER:-PT15M
ACTION:DISPLAY
DESCRIPTION:H. 577 - An act relating to establishing the Vermont Prescrip
 tion Drug Discount Card Program\n\nCommittee discussion\, possible vote\
 n\nJennifer Carbee\, Deputy Chief Counsel\, Office of Legislative Counse
 l - Room 42
END:VALARM
END:VCALENDAR
