BEGIN:VCALENDAR
CALSCALE:GREGORIAN
PRODID:-//Ben Fortuna//iCal4j 1.0//EN
VERSION:2.0
BEGIN:VEVENT
DTSTAMP:20260125T060514Z
DTSTART:20260129T133000
DTEND:20260129T153000
SUMMARY:Capital Budget Adjustment\n\nSection 12 - VAEL heat pump and Big 
 E\n\nCheryl Achilles\, Director\, Vermont Agriculture and Environmental 
 Laboratory\, Agency of Agriculture\, Food and Markets - Invited\n\nTrevo
 r Lowell\, Assistant Director\, Agency of Agriculture\, Food and Markets
 \n\nJoe Aja\, Director Design & Construction\, Department of Buildings a
 nd General Services\n\nJessica Thyme\, Project Manager\, Buildings and G
 eneral Services - Room 7
TZID:America/New_York
UID:20260125T061752Z-uidGen@richgoldman-357e73
END:VEVENT
BEGIN:VALARM
TRIGGER:-PT15M
ACTION:DISPLAY
DESCRIPTION:Capital Budget Adjustment\n\nSection 12 - VAEL heat pump and 
 Big E\n\nCheryl Achilles\, Director\, Vermont Agriculture and Environmen
 tal Laboratory\, Agency of Agriculture\, Food and Markets - Invited\n\nT
 revor Lowell\, Assistant Director\, Agency of Agriculture\, Food and Mar
 kets\n\nJoe Aja\, Director Design & Construction\, Department of Buildin
 gs and General Services\n\nJessica Thyme\, Project Manager\, Buildings a
 nd General Services - Room 7
END:VALARM
END:VCALENDAR
