BEGIN:VCALENDAR
CALSCALE:GREGORIAN
PRODID:-//Ben Fortuna//iCal4j 1.0//EN
VERSION:2.0
BEGIN:VEVENT
DTSTAMP:20260127T200014Z
DTSTART:20260129T131500
DTEND:20260129T151500
SUMMARY:H. 548 - An act relating to adding a mediator position to the off
 ice of the Vermont Labor Relations Board\n\nJudith Dillon\, Executive Di
 rector\, Labor Relations Board\n\nThomas Abdelnour\, Legislative Coordin
 ator\, VSEA - Invited\n\nPatricia Turley\, General Counsel\, Vermont Sta
 te Colleges System\n\nDavid Mickenberg\, Lobbyist\, Working Vermont - In
 vited - Room 31
TZID:America/New_York
UID:20260127T200117Z-uidGen@richgoldman-357e73
END:VEVENT
BEGIN:VALARM
TRIGGER:-PT15M
ACTION:DISPLAY
DESCRIPTION:H. 548 - An act relating to adding a mediator position to the
  office of the Vermont Labor Relations Board\n\nJudith Dillon\, Executiv
 e Director\, Labor Relations Board\n\nThomas Abdelnour\, Legislative Coo
 rdinator\, VSEA - Invited\n\nPatricia Turley\, General Counsel\, Vermont
  State Colleges System\n\nDavid Mickenberg\, Lobbyist\, Working Vermont 
 - Invited - Room 31
END:VALARM
END:VCALENDAR
