BEGIN:VCALENDAR
CALSCALE:GREGORIAN
PRODID:-//Ben Fortuna//iCal4j 1.0//EN
VERSION:2.0
BEGIN:VEVENT
DTSTAMP:20260125T060514Z
DTSTART:20260129T131500
DTEND:20260129T151500
SUMMARY:Education Finance\n\nReserve Guidance\n\nChris Duncombe\, Princip
 al\, Education Commission of the States\n\nElizabeth Jennings\, Presiden
 t\, Vermont Association of School Business Officials\n\nCassandra Ryan\,
  Chief Financial Officer\, Agency of Education\n\nKelly Murphy\, Directo
 r of Education Finance\, Agency of Education - Room 45
TZID:America/New_York
UID:20260125T061740Z-uidGen@richgoldman-357e73
END:VEVENT
BEGIN:VALARM
TRIGGER:-PT15M
ACTION:DISPLAY
DESCRIPTION:Education Finance\n\nReserve Guidance\n\nChris Duncombe\, Pri
 ncipal\, Education Commission of the States\n\nElizabeth Jennings\, Pres
 ident\, Vermont Association of School Business Officials\n\nCassandra Ry
 an\, Chief Financial Officer\, Agency of Education\n\nKelly Murphy\, Dir
 ector of Education Finance\, Agency of Education - Room 45
END:VALARM
END:VCALENDAR
