BEGIN:VCALENDAR
CALSCALE:GREGORIAN
PRODID:-//Ben Fortuna//iCal4j 1.0//EN
VERSION:2.0
BEGIN:VEVENT
DTSTAMP:20260125T060514Z
DTSTART:20260129T131000
DTEND:20260129T151000
SUMMARY:H. 726 - An act relating to flexible working arrangements\n\nIntr
 oduction\n\nRep. Robert Hooper\, Sponsor - Invited - Room 31
TZID:America/New_York
UID:20260125T061732Z-uidGen@richgoldman-357e73
END:VEVENT
BEGIN:VALARM
TRIGGER:-PT15M
ACTION:DISPLAY
DESCRIPTION:H. 726 - An act relating to flexible working arrangements\n\n
 Introduction\n\nRep. Robert Hooper\, Sponsor - Invited - Room 31
END:VALARM
END:VCALENDAR
