BEGIN:VCALENDAR
CALSCALE:GREGORIAN
PRODID:-//Ben Fortuna//iCal4j 1.0//EN
VERSION:2.0
BEGIN:VEVENT
DTSTAMP:20260125T060514Z
DTSTART:20260129T130000
DTEND:20260129T150000
SUMMARY:26-0743 - An act relating to miscellaneous amendments to laws rel
 ating to motor vehicles\n\nIn relation to H. 549\n\nDamien Leonard\, Leg
 islative Counsel\, Office of Legislative Counsel - Room 34
TZID:America/New_York
UID:20260125T061702Z-uidGen@richgoldman-357e73
END:VEVENT
BEGIN:VALARM
TRIGGER:-PT15M
ACTION:DISPLAY
DESCRIPTION:26-0743 - An act relating to miscellaneous amendments to laws
  relating to motor vehicles\n\nIn relation to H. 549\n\nDamien Leonard\,
  Legislative Counsel\, Office of Legislative Counsel - Room 34
END:VALARM
END:VCALENDAR
