BEGIN:VCALENDAR
CALSCALE:GREGORIAN
PRODID:-//Ben Fortuna//iCal4j 1.0//EN
VERSION:2.0
BEGIN:VEVENT
DTSTAMP:20260128T150030Z
DTSTART:20260129T130000
DTEND:20260129T150000
SUMMARY:H. 594 - An act relating to establishing the Temporary Emergency 
 Housing and Accountability Program and the Return Home Program in fiscal
  years 2027 and 2028\n\nAlex Karambelas\, Policy Advocate\, ACLU of Verm
 ont\n\nJessica Radbord\, Staff Attorney\, ACLU of Vermont - Room 46
TZID:America/New_York
UID:20260128T150145Z-uidGen@richgoldman-357e73
END:VEVENT
BEGIN:VALARM
TRIGGER:-PT15M
ACTION:DISPLAY
DESCRIPTION:H. 594 - An act relating to establishing the Temporary Emerge
 ncy Housing and Accountability Program and the Return Home Program in fi
 scal years 2027 and 2028\n\nAlex Karambelas\, Policy Advocate\, ACLU of 
 Vermont\n\nJessica Radbord\, Staff Attorney\, ACLU of Vermont - Room 46
END:VALARM
END:VCALENDAR
