BEGIN:VCALENDAR
CALSCALE:GREGORIAN
PRODID:-//Ben Fortuna//iCal4j 1.0//EN
VERSION:2.0
BEGIN:VEVENT
DTSTAMP:20260127T150030Z
DTSTART:20260129T131500
DTEND:20260129T151500
SUMMARY:Agency of Transportation FY27 Budget\n\nEnvironmental Policy and 
 Sustainability\n\nAndrea Wright\, Manager\, Environmental Policy and Sus
 tainability\, Agency of Transportation - Room 43
TZID:America/New_York
UID:20260127T150122Z-uidGen@richgoldman-357e73
END:VEVENT
BEGIN:VALARM
TRIGGER:-PT15M
ACTION:DISPLAY
DESCRIPTION:Agency of Transportation FY27 Budget\n\nEnvironmental Policy 
 and Sustainability\n\nAndrea Wright\, Manager\, Environmental Policy and
  Sustainability\, Agency of Transportation - Room 43
END:VALARM
END:VCALENDAR
