BEGIN:VCALENDAR
CALSCALE:GREGORIAN
PRODID:-//Ben Fortuna//iCal4j 1.0//EN
VERSION:2.0
BEGIN:VEVENT
DTSTAMP:20260125T060514Z
DTSTART:20260129T130000
DTEND:20260129T150000
SUMMARY:H. 512 - An act relating to the regulation of the event ticketing
  market\n\nStrike-all Walk-through and Testimony\n\nCameron Wood\, Legis
 lative Counsel\, Office of Legislative Counsel\n\nSusan Evans McClure\, 
 Executive Director\, Vermont Arts Council - Invited\n\nKevin Sweeney\, D
 irector of Marketing and Sales\, The Flynn - Invited\n\nTodd Daloz\, Dir
 ector of Policy and Legislative Affairs\, Attorney General's Office - In
 vited - Room 35
TZID:America/New_York
UID:20260125T061700Z-uidGen@richgoldman-357e73
END:VEVENT
BEGIN:VALARM
TRIGGER:-PT15M
ACTION:DISPLAY
DESCRIPTION:H. 512 - An act relating to the regulation of the event ticke
 ting market\n\nStrike-all Walk-through and Testimony\n\nCameron Wood\, L
 egislative Counsel\, Office of Legislative Counsel\n\nSusan Evans McClur
 e\, Executive Director\, Vermont Arts Council - Invited\n\nKevin Sweeney
 \, Director of Marketing and Sales\, The Flynn - Invited\n\nTodd Daloz\,
  Director of Policy and Legislative Affairs\, Attorney General's Office 
 - Invited - Room 35
END:VALARM
END:VCALENDAR
