BEGIN:VCALENDAR
CALSCALE:GREGORIAN
PRODID:-//Ben Fortuna//iCal4j 1.0//EN
VERSION:2.0
BEGIN:VEVENT
DTSTAMP:20260125T060514Z
DTSTART:20260129T140000
DTEND:20260129T160000
SUMMARY:FY27 Budget\n\nRequests\, Updates\n\nBrittney Wilson\, Deputy Com
 missioner\, Public Service Department - Invited - Room 32
TZID:America/New_York
UID:20260125T061802Z-uidGen@richgoldman-357e73
END:VEVENT
BEGIN:VALARM
TRIGGER:-PT15M
ACTION:DISPLAY
DESCRIPTION:FY27 Budget\n\nRequests\, Updates\n\nBrittney Wilson\, Deputy
  Commissioner\, Public Service Department - Invited - Room 32
END:VALARM
END:VCALENDAR
