BEGIN:VCALENDAR
CALSCALE:GREGORIAN
PRODID:-//Ben Fortuna//iCal4j 1.0//EN
VERSION:2.0
BEGIN:VEVENT
DTSTAMP:20260125T060514Z
DTSTART:20260129T130000
DTEND:20260129T150000
SUMMARY:Mental Health Advocacy Day\n\nAmy Johnson\, Government Affairs & 
 Communications Director\, Vermont Care Partners - Room 42
TZID:America/New_York
UID:20260125T061709Z-uidGen@richgoldman-357e73
END:VEVENT
BEGIN:VALARM
TRIGGER:-PT15M
ACTION:DISPLAY
DESCRIPTION:Mental Health Advocacy Day\n\nAmy Johnson\, Government Affair
 s & Communications Director\, Vermont Care Partners - Room 42
END:VALARM
END:VCALENDAR
